BEGIN:VCALENDAR
VERSION:2.0
PRODID:-//wp-events-plugin.com//7.2.3.1//EN
TZID:Europe/Amsterdam
X-WR-TIMEZONE:Europe/Amsterdam
BEGIN:VEVENT
UID:2392@worldglaucomaweek.org
DTSTART;TZID=Europe/Amsterdam:20190315T140000
DTEND;TZID=Europe/Amsterdam:20190315T160000
DTSTAMP:20190225T023959Z
URL:https://www.worldglaucomaweek.org/activity/lecture-for-glaucoma-patien
 ts-48/
SUMMARY:Lecture for Glaucoma Patients
DESCRIPTION:
CATEGORIES:Public educational
LOCATION:Bundang Jesaeng General Hospital\, 20\, Seohyeon-ro 180 beon-gil\,
  Bundang-gu\, Seognam-si\, Gyeonggi-do\, South Korea
GEO:37.39293809999999;127.1070575
X-APPLE-STRUCTURED-LOCATION;VALUE=URI;X-ADDRESS=20\, Seohyeon-ro 180 beon-g
 il\, Bundang-gu\, Seognam-si\, Gyeonggi-do\, South Korea;X-APPLE-RADIUS=10
 0;X-TITLE=Bundang Jesaeng General Hospital:geo:37.39293809999999,127.10705
 75
END:VEVENT
BEGIN:VTIMEZONE
TZID:Europe/Amsterdam
X-LIC-LOCATION:Europe/Amsterdam
BEGIN:STANDARD
DTSTART:20181028T020000
TZOFFSETFROM:+0200
TZOFFSETTO:+0100
TZNAME:CET
END:STANDARD
END:VTIMEZONE
END:VCALENDAR