BEGIN:VCALENDAR
VERSION:2.0
PRODID:-//wp-events-plugin.com//7.2.3.1//EN
TZID:Europe/Amsterdam
X-WR-TIMEZONE:Europe/Amsterdam
BEGIN:VEVENT
UID:2391@worldglaucomaweek.org
DTSTART;TZID=Europe/Amsterdam:20190314T133000
DTEND;TZID=Europe/Amsterdam:20190314T153000
DTSTAMP:20190225T023738Z
URL:https://www.worldglaucomaweek.org/activity/lecture-for-glaucoma-patien
 ts-47/
SUMMARY:Lecture for Glaucoma Patients
DESCRIPTION:
CATEGORIES:Public educational
LOCATION:Gachon University Gil Medical Center\, 21\, Namdong-daero 774 beon
 -gil\, Namdong-gu\, Incheon\, South Korea
GEO:37.4247641;126.70318180000004
X-APPLE-STRUCTURED-LOCATION;VALUE=URI;X-ADDRESS=21\, Namdong-daero 774 beon
 -gil\, Namdong-gu\, Incheon\, South Korea;X-APPLE-RADIUS=100;X-TITLE=Gacho
 n University Gil Medical Center:geo:37.4247641,126.70318180000004
END:VEVENT
BEGIN:VTIMEZONE
TZID:Europe/Amsterdam
X-LIC-LOCATION:Europe/Amsterdam
BEGIN:STANDARD
DTSTART:20181028T020000
TZOFFSETFROM:+0200
TZOFFSETTO:+0100
TZNAME:CET
END:STANDARD
END:VTIMEZONE
END:VCALENDAR