BEGIN:VCALENDAR
VERSION:2.0
PRODID:-//wp-events-plugin.com//7.2.3.1//EN
TZID:Europe/Amsterdam
X-WR-TIMEZONE:Europe/Amsterdam
BEGIN:VEVENT
UID:2389@worldglaucomaweek.org
DTSTART;TZID=Europe/Amsterdam:20190313T123000
DTEND;TZID=Europe/Amsterdam:20190313T143000
DTSTAMP:20190303T224321Z
URL:https://www.worldglaucomaweek.org/activity/lecture-for-glaucoma-patien
 ts-45/
SUMMARY:Lecture for Glaucoma Patients
DESCRIPTION:
CATEGORIES:Public educational
LOCATION:Asan Medical Center\, 88\, Olympic-ro 43-gil\, Songpa-gu\, Seoul\,
  South Korea
GEO:37.5254548;127.10841849999997
X-APPLE-STRUCTURED-LOCATION;VALUE=URI;X-ADDRESS=88\, Olympic-ro 43-gil\, So
 ngpa-gu\, Seoul\, South Korea;X-APPLE-RADIUS=100;X-TITLE=Asan Medical Cent
 er:geo:37.5254548,127.10841849999997
END:VEVENT
BEGIN:VTIMEZONE
TZID:Europe/Amsterdam
X-LIC-LOCATION:Europe/Amsterdam
BEGIN:STANDARD
DTSTART:20181028T020000
TZOFFSETFROM:+0200
TZOFFSETTO:+0100
TZNAME:CET
END:STANDARD
END:VTIMEZONE
END:VCALENDAR