BEGIN:VCALENDAR
VERSION:2.0
PRODID:-//wp-events-plugin.com//7.2.3.1//EN
TZID:Europe/Amsterdam
X-WR-TIMEZONE:Europe/Amsterdam
BEGIN:VEVENT
UID:2387@worldglaucomaweek.org
DTSTART;TZID=Europe/Amsterdam:20190309T140000
DTEND;TZID=Europe/Amsterdam:20190309T160000
DTSTAMP:20190225T023316Z
URL:https://www.worldglaucomaweek.org/activity/lecture-for-glaucoma-patien
 ts-43/
SUMMARY:Lecture for Glaucoma Patients
DESCRIPTION:
CATEGORIES:Public educational
LOCATION:Nune Eye Seoul Hospital\, Sunleungro 404\, Gangnam-gu\, Seoul\, So
 uth Korea
GEO:37.5172363;127.04732480000007
X-APPLE-STRUCTURED-LOCATION;VALUE=URI;X-ADDRESS=Sunleungro 404\, Gangnam-gu
 \, Seoul\, South Korea;X-APPLE-RADIUS=100;X-TITLE=Nune Eye Seoul Hospital:
 geo:37.5172363,127.04732480000007
END:VEVENT
BEGIN:VTIMEZONE
TZID:Europe/Amsterdam
X-LIC-LOCATION:Europe/Amsterdam
BEGIN:STANDARD
DTSTART:20181028T020000
TZOFFSETFROM:+0200
TZOFFSETTO:+0100
TZNAME:CET
END:STANDARD
END:VTIMEZONE
END:VCALENDAR