BEGIN:VCALENDAR
VERSION:2.0
PRODID:-//wp-events-plugin.com//7.2.3.1//EN
TZID:Europe/Amsterdam
X-WR-TIMEZONE:Europe/Amsterdam
BEGIN:VEVENT
UID:2347@worldglaucomaweek.org
DTSTART;TZID=Europe/Amsterdam:20190311T143000
DTEND;TZID=Europe/Amsterdam:20190311T163000
DTSTAMP:20190225T023344Z
URL:https://www.worldglaucomaweek.org/activity/lecture-for-glaucoma-patien
 ts-41/
SUMMARY:Lecture for Glaucoma Patients
DESCRIPTION:
CATEGORIES:Public educational
LOCATION:Wonju Woori Ophthalmology Clinic\, 139 Wonil-ro\, Ilsan-dong\, Won
 ju-si\, Gangwon-do\, South Korea
GEO:37.3515821;127.94676189999996
X-APPLE-STRUCTURED-LOCATION;VALUE=URI;X-ADDRESS=139 Wonil-ro\, Ilsan-dong\,
  Wonju-si\, Gangwon-do\, South Korea;X-APPLE-RADIUS=100;X-TITLE=Wonju Woor
 i Ophthalmology Clinic:geo:37.3515821,127.94676189999996
END:VEVENT
BEGIN:VTIMEZONE
TZID:Europe/Amsterdam
X-LIC-LOCATION:Europe/Amsterdam
BEGIN:STANDARD
DTSTART:20181028T020000
TZOFFSETFROM:+0200
TZOFFSETTO:+0100
TZNAME:CET
END:STANDARD
END:VTIMEZONE
END:VCALENDAR