BEGIN:VCALENDAR
VERSION:2.0
PRODID:-//wp-events-plugin.com//7.2.3.1//EN
TZID:Europe/Amsterdam
X-WR-TIMEZONE:Europe/Amsterdam
BEGIN:VEVENT
UID:2346@worldglaucomaweek.org
DTSTART;TZID=Europe/Amsterdam:20190320T100000
DTEND;TZID=Europe/Amsterdam:20190320T120000
DTSTAMP:20190225T024140Z
URL:https://www.worldglaucomaweek.org/activity/lecture-for-glaucoma-patien
 ts-40/
SUMMARY:Lecture for Glaucoma Patients
DESCRIPTION:
CATEGORIES:Public educational
LOCATION:Chungnam National University Hospital\, 282 Munhwa-ro\, Jung-gu\, 
 Daejeon-si\, South Korea
GEO:36.31695;127.41572080000003
X-APPLE-STRUCTURED-LOCATION;VALUE=URI;X-ADDRESS=282 Munhwa-ro\, Jung-gu\, D
 aejeon-si\, South Korea;X-APPLE-RADIUS=100;X-TITLE=Chungnam National Unive
 rsity Hospital:geo:36.31695,127.41572080000003
END:VEVENT
BEGIN:VTIMEZONE
TZID:Europe/Amsterdam
X-LIC-LOCATION:Europe/Amsterdam
BEGIN:STANDARD
DTSTART:20181028T020000
TZOFFSETFROM:+0200
TZOFFSETTO:+0100
TZNAME:CET
END:STANDARD
END:VTIMEZONE
END:VCALENDAR