BEGIN:VCALENDAR
VERSION:2.0
PRODID:-//wp-events-plugin.com//7.2.3.1//EN
TZID:Europe/Amsterdam
X-WR-TIMEZONE:Europe/Amsterdam
BEGIN:VEVENT
UID:2345@worldglaucomaweek.org
DTSTART;TZID=Europe/Amsterdam:20190316T140000
DTEND;TZID=Europe/Amsterdam:20190316T160000
DTSTAMP:20190225T024229Z
URL:https://www.worldglaucomaweek.org/activity/lecture-for-glaucoma-patien
 ts-39/
SUMMARY:Lecture for Glaucoma Patients
DESCRIPTION:
CATEGORIES:Public educational
LOCATION:Nune Eye Daegu Hospital\, 2179 Dalgubul-daero\, Joong-gu\, Daegi-s
 i\, South Korea
GEO:35.8636504;128.60179970000002
X-APPLE-STRUCTURED-LOCATION;VALUE=URI;X-ADDRESS=2179 Dalgubul-daero\, Joong
 -gu\, Daegi-si\, South Korea;X-APPLE-RADIUS=100;X-TITLE=Nune Eye Daegu Hos
 pital:geo:35.8636504,128.60179970000002
END:VEVENT
BEGIN:VTIMEZONE
TZID:Europe/Amsterdam
X-LIC-LOCATION:Europe/Amsterdam
BEGIN:STANDARD
DTSTART:20181028T020000
TZOFFSETFROM:+0200
TZOFFSETTO:+0100
TZNAME:CET
END:STANDARD
END:VTIMEZONE
END:VCALENDAR