BEGIN:VCALENDAR
VERSION:2.0
PRODID:-//wp-events-plugin.com//7.2.3.1//EN
TZID:Europe/Amsterdam
X-WR-TIMEZONE:Europe/Amsterdam
BEGIN:VEVENT
UID:2344@worldglaucomaweek.org
DTSTART;TZID=Europe/Amsterdam:20190320T110000
DTEND;TZID=Europe/Amsterdam:20190320T130000
DTSTAMP:20190225T024158Z
URL:https://www.worldglaucomaweek.org/activity/lecture-for-glaucoma-patien
 ts-38/
SUMMARY:Lecture for Glaucoma Patients
DESCRIPTION:
CATEGORIES:Public educational
LOCATION:Pusan National University Hospital\, 179 Gudeok-ro\, Seo-gu\, Busa
 n-si\, South Korea
GEO:35.100814;129.01872890000004
X-APPLE-STRUCTURED-LOCATION;VALUE=URI;X-ADDRESS=179 Gudeok-ro\, Seo-gu\, Bu
 san-si\, South Korea;X-APPLE-RADIUS=100;X-TITLE=Pusan National University 
 Hospital:geo:35.100814,129.01872890000004
END:VEVENT
BEGIN:VTIMEZONE
TZID:Europe/Amsterdam
X-LIC-LOCATION:Europe/Amsterdam
BEGIN:STANDARD
DTSTART:20181028T020000
TZOFFSETFROM:+0200
TZOFFSETTO:+0100
TZNAME:CET
END:STANDARD
END:VTIMEZONE
END:VCALENDAR