BEGIN:VCALENDAR
VERSION:2.0
PRODID:-//wp-events-plugin.com//7.2.3.1//EN
TZID:Europe/Amsterdam
X-WR-TIMEZONE:Europe/Amsterdam
BEGIN:VEVENT
UID:2340@worldglaucomaweek.org
DTSTART;TZID=Europe/Amsterdam:20190314T140000
DTEND;TZID=Europe/Amsterdam:20190314T160000
DTSTAMP:20190225T023808Z
URL:https://www.worldglaucomaweek.org/activity/lecture-for-glaucoma-patien
 ts-34/
SUMMARY:Lecture for Glaucoma Patients
DESCRIPTION:
CATEGORIES:Public educational
LOCATION:Seoul National University Bundang Hospital\, 82\, Gumi-ro 173 Beon
 -gil\, Bundang-gu\, Seongnam-si\, Gyeonggi-do\, South Korea
GEO:37.3504033;127.12446169999998
X-APPLE-STRUCTURED-LOCATION;VALUE=URI;X-ADDRESS=82\, Gumi-ro 173 Beon-gil\,
  Bundang-gu\, Seongnam-si\, Gyeonggi-do\, South Korea;X-APPLE-RADIUS=100;X
 -TITLE=Seoul National University Bundang Hospital:geo:37.3504033,127.12446
 169999998
END:VEVENT
BEGIN:VTIMEZONE
TZID:Europe/Amsterdam
X-LIC-LOCATION:Europe/Amsterdam
BEGIN:STANDARD
DTSTART:20181028T020000
TZOFFSETFROM:+0200
TZOFFSETTO:+0100
TZNAME:CET
END:STANDARD
END:VTIMEZONE
END:VCALENDAR