BEGIN:VCALENDAR
VERSION:2.0
PRODID:-//wp-events-plugin.com//7.2.3.1//EN
TZID:Europe/Amsterdam
X-WR-TIMEZONE:Europe/Amsterdam
BEGIN:VEVENT
UID:2338@worldglaucomaweek.org
DTSTART;TZID=Europe/Amsterdam:20190312T150000
DTEND;TZID=Europe/Amsterdam:20190312T170000
DTSTAMP:20190225T023527Z
URL:https://www.worldglaucomaweek.org/activity/lecture-for-glaucoma-patien
 ts-32/
SUMMARY:Lecture for Glaucoma Patients
DESCRIPTION:
CATEGORIES:Public educational
LOCATION:The Catholic University of Korea Uijeongbu ST.MARY`S Hospital\, 32
 7\, Sosa-ro\, Bucheon-si\, Gyeonggi-do\, South Korea
GEO:37.4869907;126.79257310000003
X-APPLE-STRUCTURED-LOCATION;VALUE=URI;X-ADDRESS=327\, Sosa-ro\, Bucheon-si\
 , Gyeonggi-do\, South Korea;X-APPLE-RADIUS=100;X-TITLE=The Catholic Univer
 sity of Korea Uijeongbu ST.MARY`S Hospital:geo:37.4869907,126.792573100000
 03
END:VEVENT
BEGIN:VTIMEZONE
TZID:Europe/Amsterdam
X-LIC-LOCATION:Europe/Amsterdam
BEGIN:STANDARD
DTSTART:20181028T020000
TZOFFSETFROM:+0200
TZOFFSETTO:+0100
TZNAME:CET
END:STANDARD
END:VTIMEZONE
END:VCALENDAR