BEGIN:VCALENDAR
VERSION:2.0
PRODID:-//wp-events-plugin.com//7.2.3.1//EN
TZID:Europe/Amsterdam
X-WR-TIMEZONE:Europe/Amsterdam
BEGIN:VEVENT
UID:2337@worldglaucomaweek.org
DTSTART;TZID=Europe/Amsterdam:20190315T110000
DTEND;TZID=Europe/Amsterdam:20190315T130000
DTSTAMP:20190225T023908Z
URL:https://www.worldglaucomaweek.org/activity/lecture-for-glaucoma-patien
 ts-31/
SUMMARY:Lecture for Glaucoma Patients
DESCRIPTION:
CATEGORIES:Public educational
LOCATION:The Catholic University of Korea ST.VINCENT`S Hospital\, 93\, Jung
 bu-daero\, Paldal-gu\, Suwon-si\, Gyeonggi-do\, South Korea
GEO:37.2784375;127.02784840000004
X-APPLE-STRUCTURED-LOCATION;VALUE=URI;X-ADDRESS=93\, Jungbu-daero\, Paldal-
 gu\, Suwon-si\, Gyeonggi-do\, South Korea;X-APPLE-RADIUS=100;X-TITLE=The C
 atholic University of Korea ST.VINCENT`S Hospital:geo:37.2784375,127.02784
 840000004
END:VEVENT
BEGIN:VTIMEZONE
TZID:Europe/Amsterdam
X-LIC-LOCATION:Europe/Amsterdam
BEGIN:STANDARD
DTSTART:20181028T020000
TZOFFSETFROM:+0200
TZOFFSETTO:+0100
TZNAME:CET
END:STANDARD
END:VTIMEZONE
END:VCALENDAR