BEGIN:VCALENDAR
VERSION:2.0
PRODID:-//wp-events-plugin.com//7.2.3.1//EN
TZID:Europe/Amsterdam
X-WR-TIMEZONE:Europe/Amsterdam
BEGIN:VEVENT
UID:2336@worldglaucomaweek.org
DTSTART;TZID=Europe/Amsterdam:20190312T110000
DTEND;TZID=Europe/Amsterdam:20190312T130000
DTSTAMP:20190225T023413Z
URL:https://www.worldglaucomaweek.org/activity/lecture-for-glaucoma-patien
 ts-30/
SUMMARY:Lecture for Glaucoma Patients
DESCRIPTION:
CATEGORIES:Public educational
LOCATION:Eulji Hospital\, 68 Hangeulbiseok-ro\, Nowon-gu\, Seoul\, South Ko
 rea
GEO:37.6541917;127.05679299999997
X-APPLE-STRUCTURED-LOCATION;VALUE=URI;X-ADDRESS=68 Hangeulbiseok-ro\, Nowon
 -gu\, Seoul\, South Korea;X-APPLE-RADIUS=100;X-TITLE=Eulji Hospital:geo:37
 .6541917,127.05679299999997
END:VEVENT
BEGIN:VTIMEZONE
TZID:Europe/Amsterdam
X-LIC-LOCATION:Europe/Amsterdam
BEGIN:STANDARD
DTSTART:20181028T020000
TZOFFSETFROM:+0200
TZOFFSETTO:+0100
TZNAME:CET
END:STANDARD
END:VTIMEZONE
END:VCALENDAR