BEGIN:VCALENDAR
VERSION:2.0
PRODID:-//wp-events-plugin.com//7.2.3.1//EN
TZID:Europe/Amsterdam
X-WR-TIMEZONE:Europe/Amsterdam
BEGIN:VEVENT
UID:1586@worldglaucomaweek.org
DTSTART;TZID=Europe/Amsterdam:20180316T150000
DTEND;TZID=Europe/Amsterdam:20180316T150000
DTSTAMP:20180218T125950Z
URL:https://www.worldglaucomaweek.org/activity/lecture-for-glaucoma-patien
 ts-3/
SUMMARY:Understanding Glaucoma: Lecture for Glaucoma Patients
DESCRIPTION:Understanding Glaucoma: Lecture for Glaucoma Patients\n\n&nbsp\
 ;
CATEGORIES:Public educational
LOCATION:Kyungpook University Hospital\, 130 Dongdeok-ro\, Jung-gu\, Daegu 
 \, Daegu\, South Korea
GEO:35.865942;128.60513560000004
X-APPLE-STRUCTURED-LOCATION;VALUE=URI;X-ADDRESS=130 Dongdeok-ro\, Jung-gu\,
  Daegu \, Daegu\, South Korea;X-APPLE-RADIUS=100;X-TITLE=Kyungpook Univers
 ity Hospital:geo:35.865942,128.60513560000004
END:VEVENT
BEGIN:VTIMEZONE
TZID:Europe/Amsterdam
X-LIC-LOCATION:Europe/Amsterdam
BEGIN:STANDARD
DTSTART:20171029T020000
TZOFFSETFROM:+0200
TZOFFSETTO:+0100
TZNAME:CET
END:STANDARD
END:VTIMEZONE
END:VCALENDAR