BEGIN:VCALENDAR
VERSION:2.0
PRODID:-//wp-events-plugin.com//7.2.3.1//EN
TZID:Europe/Amsterdam
X-WR-TIMEZONE:Europe/Amsterdam
BEGIN:VEVENT
UID:2332@worldglaucomaweek.org
DTSTART;TZID=Europe/Amsterdam:20190311T160000
DTEND;TZID=Europe/Amsterdam:20190311T180000
DTSTAMP:20190225T023354Z
URL:https://www.worldglaucomaweek.org/activity/lecture-for-glaucoma-patien
 ts-26/
SUMMARY:Lecture for Glaucoma Patients
DESCRIPTION:
CATEGORIES:Public educational
LOCATION:Seoul National University Hospital\, 101 Daehak-ro\, Jongno-gu\, S
 eoul\, South Korea
GEO:37.5775956;126.99988630000007
X-APPLE-STRUCTURED-LOCATION;VALUE=URI;X-ADDRESS=101 Daehak-ro\, Jongno-gu\,
  Seoul\, South Korea;X-APPLE-RADIUS=100;X-TITLE=Seoul National University 
 Hospital:geo:37.5775956,126.99988630000007
END:VEVENT
BEGIN:VTIMEZONE
TZID:Europe/Amsterdam
X-LIC-LOCATION:Europe/Amsterdam
BEGIN:STANDARD
DTSTART:20181028T020000
TZOFFSETFROM:+0200
TZOFFSETTO:+0100
TZNAME:CET
END:STANDARD
END:VTIMEZONE
END:VCALENDAR