BEGIN:VCALENDAR
VERSION:2.0
PRODID:-//wp-events-plugin.com//7.2.3.1//EN
TZID:Europe/Amsterdam
X-WR-TIMEZONE:Europe/Amsterdam
BEGIN:VEVENT
UID:1670@worldglaucomaweek.org
DTSTART;TZID=Europe/Amsterdam:20180312T160000
DTEND;TZID=Europe/Amsterdam:20180312T160000
DTSTAMP:20180218T125240Z
URL:https://www.worldglaucomaweek.org/activity/lecture-for-glaucoma-patien
 ts-16/
SUMMARY:Understanding Glaucoma: Lecture for Glaucoma Patients
DESCRIPTION:Understanding Glaucoma: Lecture for Glaucoma Patients
CATEGORIES:Public educational
LOCATION:Seoul National University Hospital\, 101 Daehak-ro Jongno-gu\, Seo
 ul\, 03080\, South Korea
GEO:37.5775956;126.99988630000007
X-APPLE-STRUCTURED-LOCATION;VALUE=URI;X-ADDRESS=101 Daehak-ro Jongno-gu\, S
 eoul\, 03080\, South Korea;X-APPLE-RADIUS=100;X-TITLE=Seoul National Unive
 rsity Hospital:geo:37.5775956,126.99988630000007
END:VEVENT
BEGIN:VTIMEZONE
TZID:Europe/Amsterdam
X-LIC-LOCATION:Europe/Amsterdam
BEGIN:STANDARD
DTSTART:20171029T020000
TZOFFSETFROM:+0200
TZOFFSETTO:+0100
TZNAME:CET
END:STANDARD
END:VTIMEZONE
END:VCALENDAR