BEGIN:VCALENDAR
VERSION:2.0
PRODID:-//wp-events-plugin.com//7.2.3.1//EN
TZID:Europe/Amsterdam
X-WR-TIMEZONE:Europe/Amsterdam
BEGIN:VEVENT
UID:1596@worldglaucomaweek.org
DTSTART;TZID=Europe/Amsterdam:20180314T130000
DTEND;TZID=Europe/Amsterdam:20180314T130000
DTSTAMP:20180218T125349Z
URL:https://www.worldglaucomaweek.org/activity/lecture-for-glaucoma-patien
 ts-13/
SUMMARY:Understanding Glaucoma: Lecture for Glaucoma Patients
DESCRIPTION:Understanding Glaucoma: Lecture for Glaucoma Patients
CATEGORIES:Public educational
LOCATION:Jeju University Hospital\, Jeju University Hospital\, Jeju\, South
  Korea
GEO:33.4672955;126.54511460000003
X-APPLE-STRUCTURED-LOCATION;VALUE=URI;X-ADDRESS=Jeju University Hospital\, 
 Jeju\, South Korea;X-APPLE-RADIUS=100;X-TITLE=Jeju University Hospital:geo
 :33.4672955,126.54511460000003
END:VEVENT
BEGIN:VTIMEZONE
TZID:Europe/Amsterdam
X-LIC-LOCATION:Europe/Amsterdam
BEGIN:STANDARD
DTSTART:20171029T020000
TZOFFSETFROM:+0200
TZOFFSETTO:+0100
TZNAME:CET
END:STANDARD
END:VTIMEZONE
END:VCALENDAR