BEGIN:VCALENDAR
VERSION:2.0
PRODID:-//wp-events-plugin.com//7.2.3.1//EN
TZID:Europe/Amsterdam
X-WR-TIMEZONE:Europe/Amsterdam
BEGIN:VEVENT
UID:1593@worldglaucomaweek.org
DTSTART;TZID=Europe/Amsterdam:20180313T150000
DTEND;TZID=Europe/Amsterdam:20180313T150000
DTSTAMP:20180218T125316Z
URL:https://www.worldglaucomaweek.org/activity/lecture-for-glaucoma-patien
 ts-10/
SUMMARY:Understanding Glaucoma: Lecture for Glaucoma Patients
DESCRIPTION:Understanding Glaucoma: Lecture for Glaucoma Patients
CATEGORIES:Public educational
LOCATION:Ulsan University Hospital\, Ulsan University Hospital \, Ulsan \, 
 South Korea
GEO:35.5199931;129.42896010000004
X-APPLE-STRUCTURED-LOCATION;VALUE=URI;X-ADDRESS=Ulsan University Hospital \
 , Ulsan \, South Korea;X-APPLE-RADIUS=100;X-TITLE=Ulsan University Hospita
 l:geo:35.5199931,129.42896010000004
END:VEVENT
BEGIN:VTIMEZONE
TZID:Europe/Amsterdam
X-LIC-LOCATION:Europe/Amsterdam
BEGIN:STANDARD
DTSTART:20171029T020000
TZOFFSETFROM:+0200
TZOFFSETTO:+0100
TZNAME:CET
END:STANDARD
END:VTIMEZONE
END:VCALENDAR