BEGIN:VCALENDAR
VERSION:2.0
PRODID:-//wp-events-plugin.com//7.2.3.1//EN
TZID:Europe/Amsterdam
X-WR-TIMEZONE:Europe/Amsterdam
BEGIN:VEVENT
UID:1147@worldglaucomaweek.org
DTSTART;TZID=Europe/Amsterdam:20170314T090000
DTEND;TZID=Europe/Amsterdam:20170316T100000
DTSTAMP:20170228T225821Z
URL:https://www.worldglaucomaweek.org/activity/lay-forum-13/
SUMMARY:Lay Forum
DESCRIPTION:
CATEGORIES:Public educational
LOCATION:Rizal Medical Center\, Shaw Blvd\, Pasig City\, Philippines
GEO:14.5742942;121.06163400000003
X-APPLE-STRUCTURED-LOCATION;VALUE=URI;X-ADDRESS=Shaw Blvd\, Pasig City\, Ph
 ilippines;X-APPLE-RADIUS=100;X-TITLE=Rizal Medical Center:geo:14.5742942,1
 21.06163400000003
END:VEVENT
BEGIN:VTIMEZONE
TZID:Europe/Amsterdam
X-LIC-LOCATION:Europe/Amsterdam
BEGIN:STANDARD
DTSTART:20161030T020000
TZOFFSETFROM:+0200
TZOFFSETTO:+0100
TZNAME:CET
END:STANDARD
END:VTIMEZONE
END:VCALENDAR