BEGIN:VCALENDAR
VERSION:2.0
PRODID:-//wp-events-plugin.com//7.2.3.1//EN
TZID:Europe/Amsterdam
X-WR-TIMEZONE:Europe/Amsterdam
BEGIN:VEVENT
UID:1703@worldglaucomaweek.org
DTSTART;TZID=Europe/Amsterdam:20180314T090000
DTEND;TZID=Europe/Amsterdam:20180314T090000
DTSTAMP:20180220T222043Z
URL:https://www.worldglaucomaweek.org/activity/launching-of-glaucoma-patie
 nts-association/
SUMMARY:Launching of Glaucoma Patients' Association
DESCRIPTION:
CATEGORIES:Media coverage
LOCATION:Doctor's house\, Ugbowo\, Benin\, Edo\, Nigeria
X-APPLE-STRUCTURED-LOCATION;VALUE=URI;X-ADDRESS=Ugbowo\, Benin\, Edo\, Nige
 ria;X-APPLE-RADIUS=100;X-TITLE=Doctor's house:geo:0,0
END:VEVENT
BEGIN:VTIMEZONE
TZID:Europe/Amsterdam
X-LIC-LOCATION:Europe/Amsterdam
BEGIN:STANDARD
DTSTART:20171029T020000
TZOFFSETFROM:+0200
TZOFFSETTO:+0100
TZNAME:CET
END:STANDARD
END:VTIMEZONE
END:VCALENDAR