BEGIN:VCALENDAR
VERSION:2.0
PRODID:-//wp-events-plugin.com//7.2.3.1//EN
TZID:Europe/Amsterdam
X-WR-TIMEZONE:Europe/Amsterdam
BEGIN:VEVENT
UID:2087@worldglaucomaweek.org
DTSTART;TZID=Europe/Amsterdam;VALUE=DATE:20180312
DTEND;TZID=Europe/Amsterdam;VALUE=DATE:20180501
DTSTAMP:20180312T104527Z
URL:https://www.worldglaucomaweek.org/activity/launch-of-a-new-screening-a
 lgorithm-for-glaucoma/
SUMMARY:Launch of a new screening algorithm for glaucoma
DESCRIPTION:The Danish eye-screening software manufacturer\, RetinaLyze Sys
 tem A/S (Ltd.)\, a market leader in retinal screening software\, is introd
 ucing another new and accessible eye-screening service\; an artificial int
 elligence-based screening service to detect glaucoma called RetinaLyze Gla
 ucoma.\n\nDuring the launch period\, we will be releasing articles and lau
 nching screening events to increase awareness about glaucoma.\n\n&nbsp\;\n
 Automated glaucoma screening using fundus images\nRetinaLyze System aims t
 o make eye-screenings accessible for the general public. To make this happ
 en\, RetinaLyze System’s services lower the cost of each screening and r
 educe the price and complexity of the equipment necessary to perform eye-s
 creenings. The new RetinaLyze Glaucoma algorithm furthermore makes it poss
 ible for eye-specialists\, such as ophthalmologists\, optometrists and nur
 ses\, to perform glaucoma screenings. RetinaLyze Glaucoma analyzes retinal
  images automatically. It can assess the risk of having glaucoma and gives
  a result instantly. The entire process involves only the image from fundu
 s cameras – no visual field analyzer or tonometer is necessary. RetinaLy
 ze Glaucoma is a new feature\, which is a part of the RetinaLyze web appli
 cation. The RetinaLyze web application offers easy-to-use automated analys
 is of retinal images for early signs of possible Diabetic Retinopathy\, AM
 D and Glaucoma as well as a built-in telemedicine solution.\n\nThe ease-of
 -use\, as well as the simplicity of the eye exam and the speed of the resu
 lt\, makes the RetinaLyze service an ideal eye-screening tool for clinics 
 and optometry practices of all sizes.\n\n&nbsp\;\n\nRead more about us at 
 https://www.retinalyze.com.
CATEGORIES:Public educational
END:VEVENT
BEGIN:VTIMEZONE
TZID:Europe/Amsterdam
X-LIC-LOCATION:Europe/Amsterdam
BEGIN:STANDARD
DTSTART:20171029T020000
TZOFFSETFROM:+0200
TZOFFSETTO:+0100
TZNAME:CET
END:STANDARD
BEGIN:DAYLIGHT
DTSTART:20180325T030000
TZOFFSETFROM:+0100
TZOFFSETTO:+0200
TZNAME:CEST
END:DAYLIGHT
END:VTIMEZONE
END:VCALENDAR