BEGIN:VCALENDAR
VERSION:2.0
PRODID:-//wp-events-plugin.com//7.2.3.1//EN
TZID:Europe/Amsterdam
X-WR-TIMEZONE:Europe/Amsterdam
BEGIN:VEVENT
UID:2183@worldglaucomaweek.org
DTSTART;TZID=Europe/Amsterdam;VALUE=DATE:20180311
DTEND;TZID=Europe/Amsterdam;VALUE=DATE:20180318
DTSTAMP:20180314T041029Z
URL:https://www.worldglaucomaweek.org/activity/lamberto-ilagan-eye-clinic-
 poster-display/
SUMMARY:Lamberto Ilagan Eye Clinic Poster Display
DESCRIPTION:
CATEGORIES:Public educational
LOCATION:Ilagan Eye Clinic\, Ponso St\, Bauan\, Batangas\, Philippines
GEO:13.7898491;121.0051009
X-APPLE-STRUCTURED-LOCATION;VALUE=URI;X-ADDRESS=Ponso St\, Bauan\, Batangas
 \, Philippines;X-APPLE-RADIUS=100;X-TITLE=Ilagan Eye Clinic:geo:13.7898491
 ,121.0051009
END:VEVENT
BEGIN:VTIMEZONE
TZID:Europe/Amsterdam
X-LIC-LOCATION:Europe/Amsterdam
BEGIN:STANDARD
DTSTART:20171029T020000
TZOFFSETFROM:+0200
TZOFFSETTO:+0100
TZNAME:CET
END:STANDARD
END:VTIMEZONE
END:VCALENDAR