BEGIN:VCALENDAR
VERSION:2.0
PRODID:-//wp-events-plugin.com//7.2.3.1//EN
TZID:Europe/Amsterdam
X-WR-TIMEZONE:Europe/Amsterdam
BEGIN:VEVENT
UID:2071@worldglaucomaweek.org
DTSTART;TZID=Europe/Amsterdam;VALUE=DATE:20180301
DTEND;TZID=Europe/Amsterdam;VALUE=DATE:20180302
DTSTAMP:20180311T182056Z
URL:https://www.worldglaucomaweek.org/activity/kemerovo/
SUMMARY:Kemerovo
DESCRIPTION:
CATEGORIES:Media coverage
LOCATION:Kemerovo\, St. Rukavishnikova 20\, Kemerovo\, Russia \, 650000\, K
 emerovskaya \, Russia
GEO:55.34640229999999;86.066824
X-APPLE-STRUCTURED-LOCATION;VALUE=URI;X-ADDRESS=St. Rukavishnikova 20\, Kem
 erovo\, Russia \, 650000\, Kemerovskaya \, Russia;X-APPLE-RADIUS=100;X-TIT
 LE=Kemerovo:geo:55.34640229999999,86.066824
END:VEVENT
BEGIN:VTIMEZONE
TZID:Europe/Amsterdam
X-LIC-LOCATION:Europe/Amsterdam
BEGIN:STANDARD
DTSTART:20171029T020000
TZOFFSETFROM:+0200
TZOFFSETTO:+0100
TZNAME:CET
END:STANDARD
END:VTIMEZONE
END:VCALENDAR