BEGIN:VCALENDAR
VERSION:2.0
PRODID:-//wp-events-plugin.com//7.2.3.1//EN
TZID:Europe/Amsterdam
X-WR-TIMEZONE:Europe/Amsterdam
BEGIN:VEVENT
UID:2042@worldglaucomaweek.org
DTSTART;TZID=Europe/Amsterdam;VALUE=DATE:20180312
DTEND;TZID=Europe/Amsterdam;VALUE=DATE:20180317
DTSTAMP:20180310T104248Z
URL:https://www.worldglaucomaweek.org/activity/jrrmmc-world-glaucoma-week-
 2018/
SUMMARY:JRRMMC World Glaucoma Week 2018
DESCRIPTION:March 12- A video Documentation of Baerveldt tube insertion of 
 a service patient to be done by Glaucoma Service Consultant\n\nMarch 14- F
 ree Glaucoma Screening\n\nMarch 15- Free Glaucoma Medications to be given 
 at our weekly Glaucoma Clinic\n\nMarch 16- Glaucoma Lay Forum by Dr. Noel 
 Francis G. Belleza
CATEGORIES:Public educational
LOCATION:Jose R. Reyes Memorial Medical Center\, Rizal Avenue\, Santa Cruz\
 , Manila\, Philippines
GEO:14.6319884;120.98076070000002
X-APPLE-STRUCTURED-LOCATION;VALUE=URI;X-ADDRESS=Rizal Avenue\, Santa Cruz\,
  Manila\, Philippines;X-APPLE-RADIUS=100;X-TITLE=Jose R. Reyes Memorial Me
 dical Center:geo:14.6319884,120.98076070000002
END:VEVENT
BEGIN:VTIMEZONE
TZID:Europe/Amsterdam
X-LIC-LOCATION:Europe/Amsterdam
BEGIN:STANDARD
DTSTART:20171029T020000
TZOFFSETFROM:+0200
TZOFFSETTO:+0100
TZNAME:CET
END:STANDARD
END:VTIMEZONE
END:VCALENDAR