BEGIN:VCALENDAR
VERSION:2.0
PRODID:-//wp-events-plugin.com//7.2.3.1//EN
TZID:Europe/Amsterdam
X-WR-TIMEZONE:Europe/Amsterdam
BEGIN:VEVENT
UID:1626@worldglaucomaweek.org
DTSTART;TZID=Europe/Amsterdam:20180316T083000
DTEND;TZID=Europe/Amsterdam:20180316T163000
DTSTAMP:20180206T105705Z
URL:https://www.worldglaucomaweek.org/activity/journee-depistage-du-glauco
 me/
SUMMARY:Journée Dépistage du Glaucome
DESCRIPTION:Information et Dépistage GRATUIT\n\nSite Porte de Hal- Consult
 ation Ophtalmologie- Route 204\n\nLe voleur silencieux de la vue\, indolor
 e et insidieux\, le glaucome est la 2ème cause de perte de vue irréversi
 ble.\n\n Environ 50% des cas de glaucome ne sont pas diagnostiqués.\n\nF
 aites-vous dépister gratuitement !
ATTACH;FMTTYPE=image/jpeg:https://www.worldglaucomaweek.org/wp-content/upl
 oads/2018/02/GlaucomeLow.jpg
CATEGORIES:Screening event
LOCATION:CHU Saint-Pierre - Site Porte de Hal\, 105 rue aux Laines\, Bruxel
 les\, Bruxelles\, 1000\, Bruxelles\, Belgium
GEO:50.83422359999999;4.347245599999951
X-APPLE-STRUCTURED-LOCATION;VALUE=URI;X-ADDRESS=105 rue aux Laines\, Bruxel
 les\, Bruxelles\, 1000\, Bruxelles\, Belgium;X-APPLE-RADIUS=100;X-TITLE=CH
 U Saint-Pierre - Site Porte de Hal:geo:50.83422359999999,4.347245599999951
END:VEVENT
BEGIN:VTIMEZONE
TZID:Europe/Amsterdam
X-LIC-LOCATION:Europe/Amsterdam
BEGIN:STANDARD
DTSTART:20171029T020000
TZOFFSETFROM:+0200
TZOFFSETTO:+0100
TZNAME:CET
END:STANDARD
END:VTIMEZONE
END:VCALENDAR