BEGIN:VCALENDAR
VERSION:2.0
PRODID:-//wp-events-plugin.com//7.2.3.1//EN
TZID:Europe/Amsterdam
X-WR-TIMEZONE:Europe/Amsterdam
BEGIN:VEVENT
UID:2661@worldglaucomaweek.org
DTSTART;TZID=Europe/Amsterdam;VALUE=DATE:20190314
DTEND;TZID=Europe/Amsterdam;VALUE=DATE:20190315
DTSTAMP:20190306T000313Z
URL:https://www.worldglaucomaweek.org/activity/jornada-nacional-de-prevenc
 ion-de-glaucoma/
SUMMARY:Jornada Nacional de Prevencion de Glaucoma
DESCRIPTION:
CATEGORIES:Screening event
END:VEVENT
BEGIN:VTIMEZONE
TZID:Europe/Amsterdam
X-LIC-LOCATION:Europe/Amsterdam
BEGIN:STANDARD
DTSTART:20181028T020000
TZOFFSETFROM:+0200
TZOFFSETTO:+0100
TZNAME:CET
END:STANDARD
END:VTIMEZONE
END:VCALENDAR