BEGIN:VCALENDAR
VERSION:2.0
PRODID:-//wp-events-plugin.com//7.2.3.1//EN
TZID:Europe/Amsterdam
X-WR-TIMEZONE:Europe/Amsterdam
BEGIN:VEVENT
UID:2924@worldglaucomaweek.org
DTSTART;TZID=Europe/Amsterdam:20190316T090000
DTEND;TZID=Europe/Amsterdam:20190316T120000
DTSTAMP:20190314T143318Z
URL:https://www.worldglaucomaweek.org/activity/jornada-gratuita-de-tamizaj
 e-para-glaucoma/
SUMMARY:Jornada gratuita de tamizaje para glaucoma
DESCRIPTION:
CATEGORIES:Screening event
LOCATION:Fundacion Oftalmologica Nacional\, Cl. 50 #13-50\, Bogota\, Colomb
 ia
GEO:4.6372965;-74.06615010000002
X-APPLE-STRUCTURED-LOCATION;VALUE=URI;X-ADDRESS=Cl. 50 #13-50\, Bogota\, Co
 lombia;X-APPLE-RADIUS=100;X-TITLE=Fundacion Oftalmologica Nacional:geo:4.6
 372965,-74.06615010000002
END:VEVENT
BEGIN:VTIMEZONE
TZID:Europe/Amsterdam
X-LIC-LOCATION:Europe/Amsterdam
BEGIN:STANDARD
DTSTART:20181028T020000
TZOFFSETFROM:+0200
TZOFFSETTO:+0100
TZNAME:CET
END:STANDARD
END:VTIMEZONE
END:VCALENDAR