BEGIN:VCALENDAR
VERSION:2.0
PRODID:-//wp-events-plugin.com//7.2.3.1//EN
TZID:Europe/Amsterdam
X-WR-TIMEZONE:Europe/Amsterdam
BEGIN:VEVENT
UID:2925@worldglaucomaweek.org
DTSTART;TZID=Europe/Amsterdam;VALUE=DATE:20190314
DTEND;TZID=Europe/Amsterdam;VALUE=DATE:20190315
DTSTAMP:20190314T143441Z
URL:https://www.worldglaucomaweek.org/activity/jornada-de-conferencias-den
 ominada-lo-que-debes-saber-sobre-el-glaucoma-en-las-cuales-nuestros-especi
 alistas-estaran-informando-a-los-pacientes-acompan%cc%83antes-cuidadores-y
 -todos-los-inte/
SUMMARY:jornada de conferencias denominada: Lo que debes saber sobre el gla
 ucoma\, en las cuales nuestros especialistas estarán informando a los pa
 cientes\, acompañantes\, cuidadores y todos los interesados en general t
 odo lo relacionado con el Glaucoma.
DESCRIPTION:
CATEGORIES:Awareness
LOCATION:Clinica San Diego\, Cra. 43 #29-35\, MEDELLIN\, Colombia
GEO:6.2290211;-75.5690621
X-APPLE-STRUCTURED-LOCATION;VALUE=URI;X-ADDRESS=Cra. 43 #29-35\, MEDELLIN\,
  Colombia;X-APPLE-RADIUS=100;X-TITLE=Clinica San Diego:geo:6.2290211,-75.5
 690621
END:VEVENT
BEGIN:VTIMEZONE
TZID:Europe/Amsterdam
X-LIC-LOCATION:Europe/Amsterdam
BEGIN:STANDARD
DTSTART:20181028T020000
TZOFFSETFROM:+0200
TZOFFSETTO:+0100
TZNAME:CET
END:STANDARD
END:VTIMEZONE
END:VCALENDAR