BEGIN:VCALENDAR
VERSION:2.0
PRODID:-//wp-events-plugin.com//7.2.3.1//EN
TZID:Europe/Amsterdam
X-WR-TIMEZONE:Europe/Amsterdam
BEGIN:VEVENT
UID:4359@worldglaucomaweek.org
DTSTART:20210309T000000Z
DTEND:20210309T050000Z
DTSTAMP:20210325T135135Z
URL:https://www.worldglaucomaweek.org/activity/iop-screening-in-surya-husa
 da-hospital-denpasar-bali/
SUMMARY:IOP Screening in Surya Husada Hospital Denpasar Bali
DESCRIPTION:Untuk meningkatkan kewaspadaan masyarakat mengenai penyakit gla
 ukoma\, pada hari Senin\, 8 Maret 2021 bersama dr. I Made Agus Kusumadjaja
 \, Sp.M(K) dan dr. Nyoman Sunerti\, Sp.M telah dilakukan Acara Pemeriksaan
  Tekanan Bola Mata dan Edukasi Gangguan Penglihatan Mengenai Glaukoma di R
 S Surya Husadha Denpasar. 
ATTACH;FMTTYPE=image/jpeg:https://www.worldglaucomaweek.org/wp-content/upl
 oads/2021/03/Screen-Shot-2021-03-25-at-21.51.05.png
CATEGORIES:Screening event
LOCATION:Surya Husada Hospital\, Jl Pulau Serangan No 7 Denpasar Bali Indon
 esia 80114\, Denpasar\, Denpasar\, 80114\, Bali\, Indonesia
GEO:-8.678277;115.212722
X-APPLE-STRUCTURED-LOCATION;VALUE=URI;X-ADDRESS=Jl Pulau Serangan No 7 Denp
 asar Bali Indonesia 80114\, Denpasar\, Denpasar\, 80114\, Bali\, Indonesia
 ;X-APPLE-RADIUS=100;X-TITLE=Surya Husada Hospital:geo:-8.678277,115.212722
END:VEVENT
END:VCALENDAR