BEGIN:VCALENDAR
VERSION:2.0
PRODID:-//wp-events-plugin.com//7.2.3.1//EN
TZID:Europe/Amsterdam
X-WR-TIMEZONE:Europe/Amsterdam
BEGIN:VEVENT
UID:2096@worldglaucomaweek.org
DTSTART;TZID=Europe/Amsterdam;VALUE=DATE:20180312
DTEND;TZID=Europe/Amsterdam;VALUE=DATE:20180315
DTSTAMP:20180312T114320Z
URL:https://www.worldglaucomaweek.org/activity/intraocular-pressure-screen
 ing-2/
SUMMARY:Intraocular pressure - Screening
DESCRIPTION:Control de presión intraocular\, a los acompañantes de los pa
 cientes que asisten a su turno.
CATEGORIES:Screening event
LOCATION:Clínica Gómez Romeo\, Tucumán 334\, Godoy Cruz - Mendoza\, Arge
 ntina\, 5501\, Argentina
GEO:-32.9078289;-68.848141
X-APPLE-STRUCTURED-LOCATION;VALUE=URI;X-ADDRESS=Tucumán 334\, Godoy Cruz -
  Mendoza\, Argentina\, 5501\, Argentina;X-APPLE-RADIUS=100;X-TITLE=Clínic
 a Gómez Romeo:geo:-32.9078289,-68.848141
END:VEVENT
BEGIN:VTIMEZONE
TZID:Europe/Amsterdam
X-LIC-LOCATION:Europe/Amsterdam
BEGIN:STANDARD
DTSTART:20171029T020000
TZOFFSETFROM:+0200
TZOFFSETTO:+0100
TZNAME:CET
END:STANDARD
END:VTIMEZONE
END:VCALENDAR