BEGIN:VCALENDAR
VERSION:2.0
PRODID:-//wp-events-plugin.com//7.2.3.1//EN
TZID:Europe/Amsterdam
X-WR-TIMEZONE:Europe/Amsterdam
BEGIN:VEVENT
UID:2843@worldglaucomaweek.org
DTSTART;TZID=Europe/Amsterdam:20190310T000000
DTEND;TZID=Europe/Amsterdam:20190310T000000
DTSTAMP:20190310T175118Z
URL:https://www.worldglaucomaweek.org/activity/interview/
SUMMARY:Interview
DESCRIPTION:
CATEGORIES:Media coverage
LOCATION:BF1\, Ouaga 2000\, Ouagadougou\, BURKINA-FASO\, Burkina Faso
GEO:12.2850926;-1.4918235000000095
X-APPLE-STRUCTURED-LOCATION;VALUE=URI;X-ADDRESS=Ouaga 2000\, Ouagadougou\, 
 BURKINA-FASO\, Burkina Faso;X-APPLE-RADIUS=100;X-TITLE=BF1:geo:12.2850926,
 -1.4918235000000095
END:VEVENT
BEGIN:VTIMEZONE
TZID:Europe/Amsterdam
X-LIC-LOCATION:Europe/Amsterdam
BEGIN:STANDARD
DTSTART:20181028T020000
TZOFFSETFROM:+0200
TZOFFSETTO:+0100
TZNAME:CET
END:STANDARD
END:VTIMEZONE
END:VCALENDAR