BEGIN:VCALENDAR
VERSION:2.0
PRODID:-//wp-events-plugin.com//7.2.3.1//EN
TZID:Europe/Amsterdam
X-WR-TIMEZONE:Europe/Amsterdam
BEGIN:VEVENT
UID:2574@worldglaucomaweek.org
DTSTART;TZID=Europe/Amsterdam:20190310T000000
DTEND;TZID=Europe/Amsterdam:20190310T000000
DTSTAMP:20190309T184615Z
URL:https://www.worldglaucomaweek.org/activity/interview-televisee/
SUMMARY:Interview télévisée
DESCRIPTION:\n 	Interview télévisée sur le glaucome\n
CATEGORIES:Public educational
LOCATION:BF1\, Ouaga 2000\, Ouagadougou\, BURKINA-FASO\, Burkina Faso
GEO:12.3714277;-1.5196602999999413
X-APPLE-STRUCTURED-LOCATION;VALUE=URI;X-ADDRESS=Ouaga 2000\, Ouagadougou\, 
 BURKINA-FASO\, Burkina Faso;X-APPLE-RADIUS=100;X-TITLE=BF1:geo:12.3714277,
 -1.5196602999999413
END:VEVENT
BEGIN:VTIMEZONE
TZID:Europe/Amsterdam
X-LIC-LOCATION:Europe/Amsterdam
BEGIN:STANDARD
DTSTART:20181028T020000
TZOFFSETFROM:+0200
TZOFFSETTO:+0100
TZNAME:CET
END:STANDARD
END:VTIMEZONE
END:VCALENDAR