BEGIN:VCALENDAR
VERSION:2.0
PRODID:-//wp-events-plugin.com//7.2.3.1//EN
TZID:Europe/Amsterdam
X-WR-TIMEZONE:Europe/Amsterdam
BEGIN:VEVENT
UID:2964@worldglaucomaweek.org
DTSTART;TZID=Europe/Amsterdam;VALUE=DATE:20190311
DTEND;TZID=Europe/Amsterdam;VALUE=DATE:20190317
DTSTAMP:20190316T173500Z
URL:https://www.worldglaucomaweek.org/activity/interactive-patient-educati
 on-programme/
SUMMARY:Interactive patient education programme
DESCRIPTION:Interactive public education program for general and glaucoma p
 atients. Topics covered were – What is glaucoma\, management of glaucom
 a\, how to put medications effectively\, patient responsibility\, glaucoma
  surgery and post-operative care\, Low vision services and rehabilitation\
 , government of India benefits for visual disability patients.\n\nAll quer
 ies of patients were answered to by faculty in Glaucoma Services.\n\nPamph
 lets and booklets on glaucoma disease and management were distributed
ATTACH;FMTTYPE=image/jpeg:https://www.worldglaucomaweek.org/wp-content/upl
 oads/2019/03/IMG-20190311-WA0016.jpg
CATEGORIES:Public educational
LOCATION:Dr RP Centre for Ophthalmic Sciences\, AIIMS\, Dr Rajendra Prasad 
 Centre for Ophthalmic Sciences\,\, AIIMS\, New Delhi\, New Delhi\, 110029\
 , North\, India
GEO:28.566695;77.20892479999998
X-APPLE-STRUCTURED-LOCATION;VALUE=URI;X-ADDRESS=Dr Rajendra Prasad Centre f
 or Ophthalmic Sciences\,\, AIIMS\, New Delhi\, New Delhi\, 110029\, North\
 , India;X-APPLE-RADIUS=100;X-TITLE=Dr RP Centre for Ophthalmic Sciences\, 
 AIIMS:geo:28.566695,77.20892479999998
END:VEVENT
BEGIN:VTIMEZONE
TZID:Europe/Amsterdam
X-LIC-LOCATION:Europe/Amsterdam
BEGIN:STANDARD
DTSTART:20181028T020000
TZOFFSETFROM:+0200
TZOFFSETTO:+0100
TZNAME:CET
END:STANDARD
END:VTIMEZONE
END:VCALENDAR