BEGIN:VCALENDAR
VERSION:2.0
PRODID:-//wp-events-plugin.com//7.2.3.1//EN
TZID:Europe/Amsterdam
X-WR-TIMEZONE:Europe/Amsterdam
BEGIN:VEVENT
UID:2359@worldglaucomaweek.org
DTSTART;TZID=Europe/Amsterdam:20190309T090000
DTEND;TZID=Europe/Amsterdam:20190315T100000
DTSTAMP:20190219T135135Z
URL:https://www.worldglaucomaweek.org/activity/informative-mails/
SUMMARY:Informative Mails
DESCRIPTION:Send information e-mails to all our patients in our database.
CATEGORIES:Media coverage
LOCATION:Clinica Gomez Romeo\, Tucuman 334\, Godoy Cruz\, Argentina\, 5501\
 , Mendoza\, Argentina
GEO:-32.9077628;-68.84839640000001
X-APPLE-STRUCTURED-LOCATION;VALUE=URI;X-ADDRESS=Tucuman 334\, Godoy Cruz\, 
 Argentina\, 5501\, Mendoza\, Argentina;X-APPLE-RADIUS=100;X-TITLE=Clinica 
 Gomez Romeo:geo:-32.9077628,-68.84839640000001
END:VEVENT
BEGIN:VTIMEZONE
TZID:Europe/Amsterdam
X-LIC-LOCATION:Europe/Amsterdam
BEGIN:STANDARD
DTSTART:20181028T020000
TZOFFSETFROM:+0200
TZOFFSETTO:+0100
TZNAME:CET
END:STANDARD
END:VTIMEZONE
END:VCALENDAR