BEGIN:VCALENDAR
VERSION:2.0
PRODID:-//wp-events-plugin.com//7.2.3.1//EN
TZID:Europe/Amsterdam
X-WR-TIMEZONE:Europe/Amsterdam
BEGIN:VEVENT
UID:1744@worldglaucomaweek.org
DTSTART;TZID=Europe/Amsterdam:20180312T100000
DTEND;TZID=Europe/Amsterdam:20180314T123000
DTSTAMP:20180312T112738Z
URL:https://www.worldglaucomaweek.org/activity/informative-lectures-for-pa
 tients-and-their-families-8/
SUMMARY:INFORMATIVE LECTURES FOR PATIENTS AND THEIR FAMILIES
DESCRIPTION: INFORMATIVE LECTURES FOR PATIENTS\n\nSPEAKERS: DRA. MARIA EUGE
 NIA BUSTAMANTE\, DRA. LOURDES CRIOLLO\, DRA. WILMA TIPANTASIG\, DR. RUBEN 
 CANDO\n\nEDUCATIONAL LECTURES FOR PATIENTS. pdf
CATEGORIES:Public educational
LOCATION:HOSPITAL VICENTE CORRAL MOSCOSO\, CUENCA\, CUENCA\, ECUADOR\, Ecua
 dor
GEO:-2.9001285;-79.0058965
X-APPLE-STRUCTURED-LOCATION;VALUE=URI;X-ADDRESS=CUENCA\, CUENCA\, ECUADOR\,
  Ecuador;X-APPLE-RADIUS=100;X-TITLE=HOSPITAL VICENTE CORRAL MOSCOSO:geo:-2
 .9001285,-79.0058965
END:VEVENT
BEGIN:VTIMEZONE
TZID:Europe/Amsterdam
X-LIC-LOCATION:Europe/Amsterdam
BEGIN:STANDARD
DTSTART:20171029T020000
TZOFFSETFROM:+0200
TZOFFSETTO:+0100
TZNAME:CET
END:STANDARD
END:VTIMEZONE
END:VCALENDAR