BEGIN:VCALENDAR
VERSION:2.0
PRODID:-//wp-events-plugin.com//7.2.3.1//EN
TZID:Europe/Amsterdam
X-WR-TIMEZONE:Europe/Amsterdam
BEGIN:VEVENT
UID:1740@worldglaucomaweek.org
DTSTART;TZID=Europe/Amsterdam;VALUE=DATE:20180311
DTEND;TZID=Europe/Amsterdam;VALUE=DATE:20180318
DTSTAMP:20180226T051549Z
URL:https://www.worldglaucomaweek.org/activity/informative-lectures-for-pa
 tients-and-their-families-4/
SUMMARY:INFORMATIVE LECTURES FOR PATIENTS AND THEIR FAMILIES!!
DESCRIPTION:EDUCATIONAL LECTURES FOR PATIENTS. pdf
CATEGORIES:Public educational
LOCATION:HOSPITAL DEL IESS\, PORTOVIEJO\, PORTOVIEJO\, ECUADOR\, Ecuador
GEO:-1.054723;-80.45249030000002
X-APPLE-STRUCTURED-LOCATION;VALUE=URI;X-ADDRESS=PORTOVIEJO\, PORTOVIEJO\, E
 CUADOR\, Ecuador;X-APPLE-RADIUS=100;X-TITLE=HOSPITAL DEL IESS:geo:-1.05472
 3,-80.45249030000002
END:VEVENT
BEGIN:VTIMEZONE
TZID:Europe/Amsterdam
X-LIC-LOCATION:Europe/Amsterdam
BEGIN:STANDARD
DTSTART:20171029T020000
TZOFFSETFROM:+0200
TZOFFSETTO:+0100
TZNAME:CET
END:STANDARD
END:VTIMEZONE
END:VCALENDAR