BEGIN:VCALENDAR
VERSION:2.0
PRODID:-//wp-events-plugin.com//7.2.3.1//EN
TZID:Europe/Amsterdam
X-WR-TIMEZONE:Europe/Amsterdam
BEGIN:VEVENT
UID:2091@worldglaucomaweek.org
DTSTART;TZID=Europe/Amsterdam:20180312T084500
DTEND;TZID=Europe/Amsterdam:20180312T100000
DTSTAMP:20180312T110536Z
URL:https://www.worldglaucomaweek.org/activity/informative-lectures-for-pa
 tients-and-their-families-33/
SUMMARY:INFORMATIVE LECTURES FOR PATIENTS AND THEIR FAMILIES
DESCRIPTION:[caption id="attachment_5814" align="alignnone" width="119"] IN
 FORMATIVE LECTURES FOR PATIENTS[/caption]\n\nSPEAKER:  DRA. IRENE TOTOY
CATEGORIES:Public educational
LOCATION:DISPENSARIO MAPASINGUE\, DISPENSARIO MAPASINGUE\, GUAYAQUIL\, Ecua
 dor
GEO:-2.1582171;-79.9269228
X-APPLE-STRUCTURED-LOCATION;VALUE=URI;X-ADDRESS=DISPENSARIO MAPASINGUE\, GU
 AYAQUIL\, Ecuador;X-APPLE-RADIUS=100;X-TITLE=DISPENSARIO MAPASINGUE:geo:-2
 .1582171,-79.9269228
END:VEVENT
BEGIN:VTIMEZONE
TZID:Europe/Amsterdam
X-LIC-LOCATION:Europe/Amsterdam
BEGIN:STANDARD
DTSTART:20171029T020000
TZOFFSETFROM:+0200
TZOFFSETTO:+0100
TZNAME:CET
END:STANDARD
END:VTIMEZONE
END:VCALENDAR