BEGIN:VCALENDAR
VERSION:2.0
PRODID:-//wp-events-plugin.com//7.2.3.1//EN
TZID:Europe/Amsterdam
X-WR-TIMEZONE:Europe/Amsterdam
BEGIN:VEVENT
UID:1756@worldglaucomaweek.org
DTSTART;TZID=Europe/Amsterdam:20180312T083000
DTEND;TZID=Europe/Amsterdam:20180312T103000
DTSTAMP:20180312T110857Z
URL:https://www.worldglaucomaweek.org/activity/informative-lectures-for-pa
 tients-and-their-families-20/
SUMMARY:INFORMATIVE LECTURES FOR PATIENTS AND THEIR FAMILIES
DESCRIPTION:[caption id="attachment_5814" align="alignnone" width="119"] IN
 FORMATIVE LECTURES FOR PATIENTS[/caption]\n\nSPEAKER:  DR. EDUY MUÑIZ\n\
 nEDUCATIONAL LECTURES FOR PATIENTS. pdf
CATEGORIES:Public educational
LOCATION:HOSPITAL GENERAL TEOFILO DAVILA\, MACHALA\, MACHALA\, ECUADOR\, Ec
 uador
GEO:-3.2581112;-79.9553924
X-APPLE-STRUCTURED-LOCATION;VALUE=URI;X-ADDRESS=MACHALA\, MACHALA\, ECUADOR
 \, Ecuador;X-APPLE-RADIUS=100;X-TITLE=HOSPITAL GENERAL TEOFILO DAVILA:geo:
 -3.2581112,-79.9553924
END:VEVENT
BEGIN:VTIMEZONE
TZID:Europe/Amsterdam
X-LIC-LOCATION:Europe/Amsterdam
BEGIN:STANDARD
DTSTART:20171029T020000
TZOFFSETFROM:+0200
TZOFFSETTO:+0100
TZNAME:CET
END:STANDARD
END:VTIMEZONE
END:VCALENDAR