BEGIN:VCALENDAR
VERSION:2.0
PRODID:-//wp-events-plugin.com//7.2.3.1//EN
TZID:Europe/Amsterdam
X-WR-TIMEZONE:Europe/Amsterdam
BEGIN:VEVENT
UID:1754@worldglaucomaweek.org
DTSTART;TZID=Europe/Amsterdam;VALUE=DATE:20180311
DTEND;TZID=Europe/Amsterdam;VALUE=DATE:20180318
DTSTAMP:20180226T052335Z
URL:https://www.worldglaucomaweek.org/activity/informative-lectures-for-pa
 tients-and-their-families-18/
SUMMARY:INFORMATIVE LECTURES FOR PATIENTS AND THEIR FAMILIES
DESCRIPTION:EDUCATIONAL LECTURES FOR PATIENTS. pdf
CATEGORIES:Public educational
LOCATION:HOSPITAL PABLO ARTURO SUAREZ\, QUITO\, QUITO\, ECUADOR\, Ecuador
GEO:-0.1806532;-78.46783820000002
X-APPLE-STRUCTURED-LOCATION;VALUE=URI;X-ADDRESS=QUITO\, QUITO\, ECUADOR\, E
 cuador;X-APPLE-RADIUS=100;X-TITLE=HOSPITAL PABLO ARTURO SUAREZ:geo:-0.1806
 532,-78.46783820000002
END:VEVENT
BEGIN:VTIMEZONE
TZID:Europe/Amsterdam
X-LIC-LOCATION:Europe/Amsterdam
BEGIN:STANDARD
DTSTART:20171029T020000
TZOFFSETFROM:+0200
TZOFFSETTO:+0100
TZNAME:CET
END:STANDARD
END:VTIMEZONE
END:VCALENDAR