BEGIN:VCALENDAR
VERSION:2.0
PRODID:-//wp-events-plugin.com//7.2.3.1//EN
TZID:Europe/Amsterdam
X-WR-TIMEZONE:Europe/Amsterdam
BEGIN:VEVENT
UID:1753@worldglaucomaweek.org
DTSTART;TZID=Europe/Amsterdam:20180311T120000
DTEND;TZID=Europe/Amsterdam:20180317T133000
DTSTAMP:20180312T105834Z
URL:https://www.worldglaucomaweek.org/activity/informative-lectures-for-pa
 tients-and-their-families-17/
SUMMARY:INFORMATIVE LECTURES FOR PATIENTS AND THEIR FAMILIES
DESCRIPTION:[caption id="attachment_5814" align="alignnone" width="119"] IN
 FORMATIVE LECTURES FOR PATIENTS[/caption]\n\nSPEAKER: DR. JUAN MORENO\n\nE
 DUCATIONAL LECTURES FOR PATIENTS. pdf
CATEGORIES:Public educational
LOCATION:CENTRO OFTALMOLOGICO SANTA MARIA\, QUITO\, QUITO\, ECUADOR\, Ecuad
 or
GEO:-0.1806532;-78.46783820000002
X-APPLE-STRUCTURED-LOCATION;VALUE=URI;X-ADDRESS=QUITO\, QUITO\, ECUADOR\, E
 cuador;X-APPLE-RADIUS=100;X-TITLE=CENTRO OFTALMOLOGICO SANTA MARIA:geo:-0.
 1806532,-78.46783820000002
END:VEVENT
BEGIN:VTIMEZONE
TZID:Europe/Amsterdam
X-LIC-LOCATION:Europe/Amsterdam
BEGIN:STANDARD
DTSTART:20171029T020000
TZOFFSETFROM:+0200
TZOFFSETTO:+0100
TZNAME:CET
END:STANDARD
END:VTIMEZONE
END:VCALENDAR