BEGIN:VCALENDAR
VERSION:2.0
PRODID:-//wp-events-plugin.com//7.2.3.1//EN
TZID:Europe/Amsterdam
X-WR-TIMEZONE:Europe/Amsterdam
BEGIN:VEVENT
UID:2868@worldglaucomaweek.org
DTSTART;TZID=Europe/Amsterdam:20190311T080000
DTEND;TZID=Europe/Amsterdam:20190316T120000
DTSTAMP:20190311T154119Z
URL:https://www.worldglaucomaweek.org/activity/informational-brochures-2/
SUMMARY:Informational Brochures
DESCRIPTION:Give informational Brochures in Glaucoma to patients in Santa R
 osa Hospital
CATEGORIES:Public educational
LOCATION:Hospital Santa Rosa\, Avenida Bolivar s/n cuadra 8 Pueblo Libre\, 
 LIMA\, PERU\, 021\, LIMA\, Peru
GEO:-12.0725026;-77.0708414
X-APPLE-STRUCTURED-LOCATION;VALUE=URI;X-ADDRESS=Avenida Bolivar s/n cuadra 
 8 Pueblo Libre\, LIMA\, PERU\, 021\, LIMA\, Peru;X-APPLE-RADIUS=100;X-TITL
 E=Hospital Santa Rosa:geo:-12.0725026,-77.0708414
END:VEVENT
BEGIN:VTIMEZONE
TZID:Europe/Amsterdam
X-LIC-LOCATION:Europe/Amsterdam
BEGIN:STANDARD
DTSTART:20181028T020000
TZOFFSETFROM:+0200
TZOFFSETTO:+0100
TZNAME:CET
END:STANDARD
END:VTIMEZONE
END:VCALENDAR