BEGIN:VCALENDAR
VERSION:2.0
PRODID:-//wp-events-plugin.com//7.2.3.1//EN
TZID:Europe/Amsterdam
X-WR-TIMEZONE:Europe/Amsterdam
BEGIN:VEVENT
UID:2618@worldglaucomaweek.org
DTSTART;TZID=Europe/Amsterdam:20190314T090000
DTEND;TZID=Europe/Amsterdam:20190314T120000
DTSTAMP:20190305T095947Z
URL:https://www.worldglaucomaweek.org/activity/information-stand-and-suppo
 rt/
SUMMARY:Information Stand and Support
DESCRIPTION:Information stand and drop-in one-to-one support for glaucoma p
 atients
CATEGORIES:Public educational
LOCATION:Eye Outpatients\, Royal Victoria Infirmary\, Queen Victoria Road\,
  Newcastle Upon Tyne\, NE1 4LP\, United Kingdom
GEO:54.98020570000001;-1.6190553000000136
X-APPLE-STRUCTURED-LOCATION;VALUE=URI;X-ADDRESS=Royal Victoria Infirmary\, 
 Queen Victoria Road\, Newcastle Upon Tyne\, NE1 4LP\, United Kingdom;X-APP
 LE-RADIUS=100;X-TITLE=Eye Outpatients:geo:54.98020570000001,-1.61905530000
 00136
END:VEVENT
BEGIN:VTIMEZONE
TZID:Europe/Amsterdam
X-LIC-LOCATION:Europe/Amsterdam
BEGIN:STANDARD
DTSTART:20181028T020000
TZOFFSETFROM:+0200
TZOFFSETTO:+0100
TZNAME:CET
END:STANDARD
END:VTIMEZONE
END:VCALENDAR