BEGIN:VCALENDAR
VERSION:2.0
PRODID:-//wp-events-plugin.com//7.2.3.1//EN
TZID:Europe/Amsterdam
X-WR-TIMEZONE:Europe/Amsterdam
BEGIN:VEVENT
UID:2783@worldglaucomaweek.org
DTSTART;TZID=Europe/Amsterdam:20190311T090000
DTEND;TZID=Europe/Amsterdam:20190311T093000
DTSTAMP:20190309T165505Z
URL:https://www.worldglaucomaweek.org/activity/information-event-7/
SUMMARY:Information event
DESCRIPTION:CHARLA INFORMATIVA\n\n&nbsp\;\n\n&nbsp\;\n\n&nbsp\;\n\n&nbsp\;\
 n\n&nbsp\;\n\n&nbsp\;\n\n&nbsp\;\n\n&nbsp\;
CATEGORIES:Public educational
LOCATION:HOSP. CARLOS ANDRADE MARIN\, QUITO\, QUITO\, Ecuador
GEO:-0.1806532;-78.46783820000002
X-APPLE-STRUCTURED-LOCATION;VALUE=URI;X-ADDRESS=QUITO\, QUITO\, Ecuador;X-A
 PPLE-RADIUS=100;X-TITLE=HOSP. CARLOS ANDRADE MARIN:geo:-0.1806532,-78.4678
 3820000002
END:VEVENT
BEGIN:VTIMEZONE
TZID:Europe/Amsterdam
X-LIC-LOCATION:Europe/Amsterdam
BEGIN:STANDARD
DTSTART:20181028T020000
TZOFFSETFROM:+0200
TZOFFSETTO:+0100
TZNAME:CET
END:STANDARD
END:VTIMEZONE
END:VCALENDAR