BEGIN:VCALENDAR
VERSION:2.0
PRODID:-//wp-events-plugin.com//7.2.3.1//EN
TZID:Europe/Amsterdam
X-WR-TIMEZONE:Europe/Amsterdam
BEGIN:VEVENT
UID:2635@worldglaucomaweek.org
DTSTART;TZID=Europe/Amsterdam:20190311T080000
DTEND;TZID=Europe/Amsterdam:20190311T083000
DTSTAMP:20190305T172113Z
URL:https://www.worldglaucomaweek.org/activity/information-event-6/
SUMMARY:Information event
DESCRIPTION:CHARLA INFORMATIVA A PACIENTES
CATEGORIES:Media coverage
LOCATION:CENTRO DE ESPECIALIDAD OFTALMOLOGICA BARAHONA\, SANTO DOMINGO\, SA
 NTO DOMINGO\, SANTO DOMINGO\, Ecuador
GEO:-0.2389045;-79.17742679999998
X-APPLE-STRUCTURED-LOCATION;VALUE=URI;X-ADDRESS=SANTO DOMINGO\, SANTO DOMIN
 GO\, SANTO DOMINGO\, Ecuador;X-APPLE-RADIUS=100;X-TITLE=CENTRO DE ESPECIAL
 IDAD OFTALMOLOGICA BARAHONA:geo:-0.2389045,-79.17742679999998
END:VEVENT
BEGIN:VTIMEZONE
TZID:Europe/Amsterdam
X-LIC-LOCATION:Europe/Amsterdam
BEGIN:STANDARD
DTSTART:20181028T020000
TZOFFSETFROM:+0200
TZOFFSETTO:+0100
TZNAME:CET
END:STANDARD
END:VTIMEZONE
END:VCALENDAR