BEGIN:VCALENDAR
VERSION:2.0
PRODID:-//wp-events-plugin.com//7.2.3.1//EN
TZID:Europe/Amsterdam
X-WR-TIMEZONE:Europe/Amsterdam
BEGIN:VEVENT
UID:2818@worldglaucomaweek.org
DTSTART;TZID=Europe/Amsterdam:20190312T100000
DTEND;TZID=Europe/Amsterdam:20190312T103000
DTSTAMP:20190309T182016Z
URL:https://www.worldglaucomaweek.org/activity/information-event-30/
SUMMARY:Information event
DESCRIPTION:CHARLA INFORMATIVA
CATEGORIES:Public educational
LOCATION:HOSP. ISIDRO AYORA\, LOJA\, LOJA\, Ecuador
GEO:-4.0078909;-79.21127690000003
X-APPLE-STRUCTURED-LOCATION;VALUE=URI;X-ADDRESS=LOJA\, LOJA\, Ecuador;X-APP
 LE-RADIUS=100;X-TITLE=HOSP. ISIDRO AYORA:geo:-4.0078909,-79.21127690000003
END:VEVENT
BEGIN:VTIMEZONE
TZID:Europe/Amsterdam
X-LIC-LOCATION:Europe/Amsterdam
BEGIN:STANDARD
DTSTART:20181028T020000
TZOFFSETFROM:+0200
TZOFFSETTO:+0100
TZNAME:CET
END:STANDARD
END:VTIMEZONE
END:VCALENDAR