BEGIN:VCALENDAR
VERSION:2.0
PRODID:-//wp-events-plugin.com//7.2.3.1//EN
TZID:Europe/Amsterdam
X-WR-TIMEZONE:Europe/Amsterdam
BEGIN:VEVENT
UID:2816@worldglaucomaweek.org
DTSTART;TZID=Europe/Amsterdam:20190312T090000
DTEND;TZID=Europe/Amsterdam:20190312T093000
DTSTAMP:20190309T181555Z
URL:https://www.worldglaucomaweek.org/activity/information-event-28/
SUMMARY:Information event
DESCRIPTION:CHARLA INFORMATIVA
CATEGORIES:Public educational
LOCATION:HOSP. SAN VICENTE DE PAUL\, IBARRA\, IBARRA\, Ecuador
GEO:0.3471469;-78.1323648
X-APPLE-STRUCTURED-LOCATION;VALUE=URI;X-ADDRESS=IBARRA\, IBARRA\, Ecuador;X
 -APPLE-RADIUS=100;X-TITLE=HOSP. SAN VICENTE DE PAUL:geo:0.3471469,-78.1323
 648
END:VEVENT
BEGIN:VTIMEZONE
TZID:Europe/Amsterdam
X-LIC-LOCATION:Europe/Amsterdam
BEGIN:STANDARD
DTSTART:20181028T020000
TZOFFSETFROM:+0200
TZOFFSETTO:+0100
TZNAME:CET
END:STANDARD
END:VTIMEZONE
END:VCALENDAR