BEGIN:VCALENDAR
VERSION:2.0
PRODID:-//wp-events-plugin.com//7.2.3.1//EN
TZID:Europe/Amsterdam
X-WR-TIMEZONE:Europe/Amsterdam
BEGIN:VEVENT
UID:2815@worldglaucomaweek.org
DTSTART;TZID=Europe/Amsterdam:20190312T073000
DTEND;TZID=Europe/Amsterdam:20190312T080000
DTSTAMP:20190309T181340Z
URL:https://www.worldglaucomaweek.org/activity/information-event-27/
SUMMARY:Information event
DESCRIPTION:CHARLA INFORMATIVA
CATEGORIES:Public educational
LOCATION:UNIVERSIDAD DEL AZUAY\, CUENCA\, CUENCA\, Ecuador
GEO:-2.9001285;-79.0058965
X-APPLE-STRUCTURED-LOCATION;VALUE=URI;X-ADDRESS=CUENCA\, CUENCA\, Ecuador;X
 -APPLE-RADIUS=100;X-TITLE=UNIVERSIDAD DEL AZUAY:geo:-2.9001285,-79.0058965
END:VEVENT
BEGIN:VTIMEZONE
TZID:Europe/Amsterdam
X-LIC-LOCATION:Europe/Amsterdam
BEGIN:STANDARD
DTSTART:20181028T020000
TZOFFSETFROM:+0200
TZOFFSETTO:+0100
TZNAME:CET
END:STANDARD
END:VTIMEZONE
END:VCALENDAR