BEGIN:VCALENDAR
VERSION:2.0
PRODID:-//wp-events-plugin.com//7.2.3.1//EN
TZID:Europe/Amsterdam
X-WR-TIMEZONE:Europe/Amsterdam
BEGIN:VEVENT
UID:2811@worldglaucomaweek.org
DTSTART;TZID=Europe/Amsterdam:20190312T110000
DTEND;TZID=Europe/Amsterdam:20190312T113000
DTSTAMP:20190309T180324Z
URL:https://www.worldglaucomaweek.org/activity/information-event-23/
SUMMARY:Information event
DESCRIPTION:CHARLA INFORMATIVA
CATEGORIES:Public educational
LOCATION:CENTRO OFTALMOLOGICO CUENCA VISION\, PORTOVIEJO\, PORTOVIEJO\, Ecu
 ador
GEO:-1.054723;-80.45249030000002
X-APPLE-STRUCTURED-LOCATION;VALUE=URI;X-ADDRESS=PORTOVIEJO\, PORTOVIEJO\, E
 cuador;X-APPLE-RADIUS=100;X-TITLE=CENTRO OFTALMOLOGICO CUENCA VISION:geo:-
 1.054723,-80.45249030000002
END:VEVENT
BEGIN:VTIMEZONE
TZID:Europe/Amsterdam
X-LIC-LOCATION:Europe/Amsterdam
BEGIN:STANDARD
DTSTART:20181028T020000
TZOFFSETFROM:+0200
TZOFFSETTO:+0100
TZNAME:CET
END:STANDARD
END:VTIMEZONE
END:VCALENDAR