BEGIN:VCALENDAR
VERSION:2.0
PRODID:-//wp-events-plugin.com//7.2.3.1//EN
TZID:Europe/Amsterdam
X-WR-TIMEZONE:Europe/Amsterdam
BEGIN:VEVENT
UID:2806@worldglaucomaweek.org
DTSTART;TZID=Europe/Amsterdam:20190312T080000
DTEND;TZID=Europe/Amsterdam:20190312T083000
DTSTAMP:20190309T175435Z
URL:https://www.worldglaucomaweek.org/activity/information-event-21/
SUMMARY:Information event
DESCRIPTION:CHARLA INFORMATIVA
CATEGORIES:Public educational
LOCATION:HOSP. DE MILAGRO\, MILAGRO\, MILAGRO\, Ecuador
GEO:-2.1387682;-79.5940544
X-APPLE-STRUCTURED-LOCATION;VALUE=URI;X-ADDRESS=MILAGRO\, MILAGRO\, Ecuador
 ;X-APPLE-RADIUS=100;X-TITLE=HOSP. DE MILAGRO:geo:-2.1387682,-79.5940544
END:VEVENT
BEGIN:VTIMEZONE
TZID:Europe/Amsterdam
X-LIC-LOCATION:Europe/Amsterdam
BEGIN:STANDARD
DTSTART:20181028T020000
TZOFFSETFROM:+0200
TZOFFSETTO:+0100
TZNAME:CET
END:STANDARD
END:VTIMEZONE
END:VCALENDAR