BEGIN:VCALENDAR
VERSION:2.0
PRODID:-//wp-events-plugin.com//7.2.3.1//EN
TZID:Europe/Amsterdam
X-WR-TIMEZONE:Europe/Amsterdam
BEGIN:VEVENT
UID:2796@worldglaucomaweek.org
DTSTART;TZID=Europe/Amsterdam:20190312T200000
DTEND;TZID=Europe/Amsterdam:20190312T203000
DTSTAMP:20190309T171858Z
URL:https://www.worldglaucomaweek.org/activity/information-event-17/
SUMMARY:Information event
DESCRIPTION:CHARLA INFORMATIVA\n\n&nbsp\;\n\n&nbsp\;\n\n&nbsp\;\n\n&nbsp\;\
 n\n&nbsp\;\n\n&nbsp\;\n\n&nbsp\;\n\n&nbsp\;\n\n&nbsp\;\n\n&nbsp\;\n\n&nbsp
 \;\n\n&nbsp\;\n\n&nbsp\;\n\n&nbsp\;\n\n&nbsp\;
CATEGORIES:Public educational
LOCATION:H.CUERPO DE DAMAS CONSULAR SUR\, GUAYAQUIL\, GUAYAQUIL\, guayas\, 
 090112\, Ecuador
GEO:-2.278932;-79.89967890000003
X-APPLE-STRUCTURED-LOCATION;VALUE=URI;X-ADDRESS=GUAYAQUIL\, GUAYAQUIL\, gua
 yas\, 090112\, Ecuador;X-APPLE-RADIUS=100;X-TITLE=H.CUERPO DE DAMAS CONSUL
 AR SUR:geo:-2.278932,-79.89967890000003
END:VEVENT
BEGIN:VTIMEZONE
TZID:Europe/Amsterdam
X-LIC-LOCATION:Europe/Amsterdam
BEGIN:STANDARD
DTSTART:20181028T020000
TZOFFSETFROM:+0200
TZOFFSETTO:+0100
TZNAME:CET
END:STANDARD
END:VTIMEZONE
END:VCALENDAR