BEGIN:VCALENDAR
VERSION:2.0
PRODID:-//wp-events-plugin.com//7.2.3.1//EN
TZID:Europe/Amsterdam
X-WR-TIMEZONE:Europe/Amsterdam
BEGIN:VEVENT
UID:2789@worldglaucomaweek.org
DTSTART;TZID=Europe/Amsterdam:20190311T200000
DTEND;TZID=Europe/Amsterdam:20190311T203000
DTSTAMP:20190309T170009Z
URL:https://www.worldglaucomaweek.org/activity/information-event-11/
SUMMARY:Information event
DESCRIPTION:CHARLA INFORMATIVA\n\n&nbsp\;\n\n&nbsp\;\n\n&nbsp\;\n\n&nbsp\;\
 n\n&nbsp\;\n\n&nbsp\;\n\n&nbsp\;\n\n&nbsp\;\n\n&nbsp\;\n\n&nbsp\;\n\n&nbsp
 \;\n\n&nbsp\;\n\n&nbsp\;\n\n&nbsp\;\n\n&nbsp\;
CATEGORIES:Public educational
LOCATION:HOSP. JOSE CARRASCO ARTEAGA\, CUENCA\, CUENCA\, Ecuador
GEO:-2.9001285;-79.0058965
X-APPLE-STRUCTURED-LOCATION;VALUE=URI;X-ADDRESS=CUENCA\, CUENCA\, Ecuador;X
 -APPLE-RADIUS=100;X-TITLE=HOSP. JOSE CARRASCO ARTEAGA:geo:-2.9001285,-79.0
 058965
END:VEVENT
BEGIN:VTIMEZONE
TZID:Europe/Amsterdam
X-LIC-LOCATION:Europe/Amsterdam
BEGIN:STANDARD
DTSTART:20181028T020000
TZOFFSETFROM:+0200
TZOFFSETTO:+0100
TZNAME:CET
END:STANDARD
END:VTIMEZONE
END:VCALENDAR